BEGIN:VCALENDAR
VERSION:2.0
PRODID:-//Events for Gamers - ECPv6.15.20//NONSGML v1.0//EN
CALSCALE:GREGORIAN
METHOD:PUBLISH
X-ORIGINAL-URL:https://www.eventsforgamers.com
X-WR-CALDESC:Events for Events for Gamers
REFRESH-INTERVAL;VALUE=DURATION:PT1H
X-Robots-Tag:noindex
X-PUBLISHED-TTL:PT1H
BEGIN:VTIMEZONE
TZID:America/New_York
BEGIN:DAYLIGHT
TZOFFSETFROM:-0500
TZOFFSETTO:-0400
TZNAME:EDT
DTSTART:20210314T070000
END:DAYLIGHT
BEGIN:STANDARD
TZOFFSETFROM:-0400
TZOFFSETTO:-0500
TZNAME:EST
DTSTART:20211107T060000
END:STANDARD
BEGIN:DAYLIGHT
TZOFFSETFROM:-0500
TZOFFSETTO:-0400
TZNAME:EDT
DTSTART:20220313T070000
END:DAYLIGHT
BEGIN:STANDARD
TZOFFSETFROM:-0400
TZOFFSETTO:-0500
TZNAME:EST
DTSTART:20221106T060000
END:STANDARD
BEGIN:DAYLIGHT
TZOFFSETFROM:-0500
TZOFFSETTO:-0400
TZNAME:EDT
DTSTART:20230312T070000
END:DAYLIGHT
BEGIN:STANDARD
TZOFFSETFROM:-0400
TZOFFSETTO:-0500
TZNAME:EST
DTSTART:20231105T060000
END:STANDARD
BEGIN:DAYLIGHT
TZOFFSETFROM:-0500
TZOFFSETTO:-0400
TZNAME:EDT
DTSTART:20240310T070000
END:DAYLIGHT
BEGIN:STANDARD
TZOFFSETFROM:-0400
TZOFFSETTO:-0500
TZNAME:EST
DTSTART:20241103T060000
END:STANDARD
BEGIN:DAYLIGHT
TZOFFSETFROM:-0500
TZOFFSETTO:-0400
TZNAME:EDT
DTSTART:20250309T070000
END:DAYLIGHT
BEGIN:STANDARD
TZOFFSETFROM:-0400
TZOFFSETTO:-0500
TZNAME:EST
DTSTART:20251102T060000
END:STANDARD
END:VTIMEZONE
BEGIN:VEVENT
DTSTART;VALUE=DATE:20240627
DTEND;VALUE=DATE:20240629
DTSTAMP:20260423T051511
CREATED:20240121T025814Z
LAST-MODIFIED:20240121T025815Z
UID:10001806-1719446400-1719619199@www.eventsforgamers.com
SUMMARY:Games for Change Festival 2024
DESCRIPTION:Games continue to be a powerful tool to inspire\, connect\, and change the world\, supporting today’s most pressing challenges around social justice and civic issues\, education\, health and more– we’ve seen that tenfold over the past year. Last year’s Games for Change Festival connected almost 7\,000 people from across 51 countries\, and #G4C2021 will aim to connect even more.\n\nJoin our global community of developers\, educators\, students\, researchers\, and others to explore the past year in social impact games and immersive media.\n\nVisit the News Section to search for event news and the Event Calendar for finding other events. \n\n\n	Related
URL:https://www.eventsforgamers.com/event/games-for-change-festival-2024/
LOCATION:The Times Center\, 242 W 41st St\, New York\, NY\, 10036\, United States
CATEGORIES:Conferences,Festivals
ATTACH;FMTTYPE=image/jpeg:https://www.eventsforgamers.com/wp-content/uploads/2024/01/Banner-Games-for-Change-Festival-2024.jpg
END:VEVENT
BEGIN:VEVENT
DTSTART;VALUE=DATE:20230718
DTEND;VALUE=DATE:20230721
DTSTAMP:20260423T051511
CREATED:20221226T152030Z
LAST-MODIFIED:20221226T152030Z
UID:10001436-1689638400-1689897599@www.eventsforgamers.com
SUMMARY:Games for Change Festival 2023
DESCRIPTION:Games continue to be a powerful tool to inspire\, connect\, and change the world\, supporting today’s most pressing challenges around social justice and civic issues\, education\, health and more– we’ve seen that tenfold over the past year. The 2020 Games for Change Festival connected almost 7\,000 people from across 51 countries\, and #G4C2021 will aim to connect even more.\n\nJoin our global community of developers\, educators\, students\, researchers\, and others to explore the past year in social impact games and immersive media.\n\nVisit the News Section to search for event news and the Event Calendar for finding other events. \n\n\n	Related
URL:https://www.eventsforgamers.com/event/games-for-change-festival-2023/
LOCATION:The Times Center\, 242 W 41st St\, New York\, NY\, 10036\, United States
CATEGORIES:Conferences,Festivals
ATTACH;FMTTYPE=image/jpeg:https://www.eventsforgamers.com/wp-content/uploads/2022/12/Banner-Games-For-Change-Festival-2023.jpg
END:VEVENT
BEGIN:VEVENT
DTSTART;VALUE=DATE:20220713
DTEND;VALUE=DATE:20220717
DTSTAMP:20260423T051511
CREATED:20220619T171122Z
LAST-MODIFIED:20220619T171122Z
UID:10001102-1657670400-1658015999@www.eventsforgamers.com
SUMMARY:Games for Change Festival 2022 (Hybrid)
DESCRIPTION:Games continue to be a powerful tool to inspire\, connect\, and change the world\, supporting today’s most pressing challenges around social justice and civic issues\, education\, health and more– we’ve seen that tenfold over the past year. The 2020 Games for Change Festival connected almost 7\,000 people from across 51 countries\, and #G4C2021 will aim to connect even more.\n\nJoin our global community of developers\, educators\, students\, researchers\, and others to explore the past year in social impact games and immersive media.\n\nVisit the News Section to search for event news and the Event Calendar for finding other events. \n\n\n	Related
URL:https://www.eventsforgamers.com/event/games-for-change-festival-2022-hybrid/
LOCATION:The Times Center\, 242 W 41st St\, New York\, NY\, 10036\, United States
CATEGORIES:Festivals,Online
ATTACH;FMTTYPE=image/jpeg:https://www.eventsforgamers.com/wp-content/uploads/2022/06/Banner-Games-for-Change-Festival-2022.jpg
END:VEVENT
END:VCALENDAR