BEGIN:VCALENDAR
VERSION:2.0
PRODID:-//Events for Gamers - ECPv6.15.20//NONSGML v1.0//EN
CALSCALE:GREGORIAN
METHOD:PUBLISH
X-WR-CALNAME:Events for Gamers
X-ORIGINAL-URL:https://www.eventsforgamers.com
X-WR-CALDESC:Events for Events for Gamers
REFRESH-INTERVAL;VALUE=DURATION:PT1H
X-Robots-Tag:noindex
X-PUBLISHED-TTL:PT1H
BEGIN:VTIMEZONE
TZID:America/Los_Angeles
BEGIN:DAYLIGHT
TZOFFSETFROM:-0800
TZOFFSETTO:-0700
TZNAME:PDT
DTSTART:20250309T100000
END:DAYLIGHT
BEGIN:STANDARD
TZOFFSETFROM:-0700
TZOFFSETTO:-0800
TZNAME:PST
DTSTART:20251102T090000
END:STANDARD
BEGIN:DAYLIGHT
TZOFFSETFROM:-0800
TZOFFSETTO:-0700
TZNAME:PDT
DTSTART:20260308T100000
END:DAYLIGHT
BEGIN:STANDARD
TZOFFSETFROM:-0700
TZOFFSETTO:-0800
TZNAME:PST
DTSTART:20261101T090000
END:STANDARD
BEGIN:DAYLIGHT
TZOFFSETFROM:-0800
TZOFFSETTO:-0700
TZNAME:PDT
DTSTART:20270314T100000
END:DAYLIGHT
BEGIN:STANDARD
TZOFFSETFROM:-0700
TZOFFSETTO:-0800
TZNAME:PST
DTSTART:20271107T090000
END:STANDARD
END:VTIMEZONE
BEGIN:VEVENT
DTSTART;VALUE=DATE:20261210
DTEND;VALUE=DATE:20261211
DTSTAMP:20260423T014447
CREATED:20260203T141109Z
LAST-MODIFIED:20260203T142133Z
UID:10002542-1796860800-1796947199@www.eventsforgamers.com
SUMMARY:The Game Awards December 2026
DESCRIPTION:The Game Awards is a yearly ceremony at the Peacock Theatre in Los Angeles that celebrates the great achievements and persons in the game industry.\n\nFrom The Game Awards: We bring together a diverse group of game developers\, game players\, and notable names from popular culture to celebrate and advance gaming’s position as the most immersive\, challenging and inspiring form of entertainment. We strive to recognize those who improve the wellbeing of the community and elevate voices that represent the future of the medium.\n\nThe Game Awards streams live on December 10\, 2025 from the Peacock Theater in Los Angeles. \n2025’s Livestream:\n\n\nGet Industry Updates and visit the Event Calendar for more events like The Game Awards December 2026. \n\n\n	Related
URL:https://www.eventsforgamers.com/event/the-game-awards-december-2026/
LOCATION:Peacock Theater\, 777 Chick Hearn Ct\, Los Angeles\, CA\, 90015\, United States
CATEGORIES:Online,Showcases
ATTACH;FMTTYPE=image/jpeg:https://www.eventsforgamers.com/wp-content/uploads/2026/02/Banner-The-Game-Awards-2026.jpg
END:VEVENT
END:VCALENDAR