BEGIN:VCALENDAR
VERSION:2.0
PRODID:-//Events for Gamers - ECPv6.15.20//NONSGML v1.0//EN
CALSCALE:GREGORIAN
METHOD:PUBLISH
X-WR-CALNAME:Events for Gamers
X-ORIGINAL-URL:https://www.eventsforgamers.com
X-WR-CALDESC:Events for Events for Gamers
REFRESH-INTERVAL;VALUE=DURATION:PT1H
X-Robots-Tag:noindex
X-PUBLISHED-TTL:PT1H
BEGIN:VTIMEZONE
TZID:Europe/Vilnius
BEGIN:DAYLIGHT
TZOFFSETFROM:+0200
TZOFFSETTO:+0300
TZNAME:EEST
DTSTART:20240331T010000
END:DAYLIGHT
BEGIN:STANDARD
TZOFFSETFROM:+0300
TZOFFSETTO:+0200
TZNAME:EET
DTSTART:20241027T010000
END:STANDARD
BEGIN:DAYLIGHT
TZOFFSETFROM:+0200
TZOFFSETTO:+0300
TZNAME:EEST
DTSTART:20250330T010000
END:DAYLIGHT
BEGIN:STANDARD
TZOFFSETFROM:+0300
TZOFFSETTO:+0200
TZNAME:EET
DTSTART:20251026T010000
END:STANDARD
BEGIN:DAYLIGHT
TZOFFSETFROM:+0200
TZOFFSETTO:+0300
TZNAME:EEST
DTSTART:20260329T010000
END:DAYLIGHT
BEGIN:STANDARD
TZOFFSETFROM:+0300
TZOFFSETTO:+0200
TZNAME:EET
DTSTART:20261025T010000
END:STANDARD
END:VTIMEZONE
BEGIN:VEVENT
DTSTART;VALUE=DATE:20251024
DTEND;VALUE=DATE:20251027
DTSTAMP:20260421T225248
CREATED:20250316T163942Z
LAST-MODIFIED:20250316T163942Z
UID:10002243-1761264000-1761523199@www.eventsforgamers.com
SUMMARY:GameOn 2025
DESCRIPTION:Delve into Vancouver’s ultimate gamer experience for aspiring developers\, students\, and gaming enthusiasts. Brought to you by UBC Game Development\, a local community where all things gaming and game development thrive. GameOn is the continuation of GameTech 2020\, which you may have been a part of last year.\n\nVisit the News and Event Calendar for more events like GameOn 2025. \n\n\n	Related
URL:https://www.eventsforgamers.com/event/gameon-2025/
LOCATION:LITEXPO\, Laisvės pr. 5\, Vilnius\, 04132\, Lithuania
CATEGORIES:Conferences,Online
ATTACH;FMTTYPE=image/jpeg:https://www.eventsforgamers.com/wp-content/uploads/2025/03/Banner-GameON-2025.jpg
END:VEVENT
END:VCALENDAR