BEGIN:VCALENDAR
VERSION:2.0
PRODID:-//Events for Gamers - ECPv6.15.20//NONSGML v1.0//EN
CALSCALE:GREGORIAN
METHOD:PUBLISH
X-ORIGINAL-URL:https://www.eventsforgamers.com
X-WR-CALDESC:Events for Events for Gamers
REFRESH-INTERVAL;VALUE=DURATION:PT1H
X-Robots-Tag:noindex
X-PUBLISHED-TTL:PT1H
BEGIN:VTIMEZONE
TZID:Europe/Istanbul
BEGIN:STANDARD
TZOFFSETFROM:+0300
TZOFFSETTO:+0300
TZNAME:+03
DTSTART:20250101T000000
END:STANDARD
END:VTIMEZONE
BEGIN:VEVENT
DTSTART;VALUE=DATE:20261007
DTEND;VALUE=DATE:20261009
DTSTAMP:20260421T210735
CREATED:20251122T214951Z
LAST-MODIFIED:20260225T030657Z
UID:10002464-1791331200-1791503999@www.eventsforgamers.com
SUMMARY:Mobidictum Conference 2026
DESCRIPTION:The region’s largest gaming industry event will take place in Istanbul—a global hub connecting the mobile gaming ecosystem.\n\nBringing together over 2\,000+ attendees from 50+ countries\, this premier event will host game developers\, publishers\, investors\, service providers\, or just someone interested in the game industry—there’s something for everyone. Participants can expect engaging panel discussions\, business matchmaking opportunities\, and exclusive side events designed to foster meaningful connections.\n\nBeyond the conference\, Istanbul offers a rich cultural and culinary experience\, with its historic landmarks\, scenic Bosphorus views\, and vibrant atmosphere. Additionally\, pre-event mixers\, networking gatherings\, and after-parties will ensure a dynamic blend of professional and social interactions.\n\nVisit the News and Event Calendar for more events like Mobidictum Conference 2026. \n\n\n	Related
URL:https://www.eventsforgamers.com/event/mobidictum-conference-2026/
LOCATION:Istanbul Lutfi Kirdar International Convention & Congress Center\, Harbiye\, Darülbedai Caddesi No:4\, Taşkışla Cd.\, 34367 Şişli/\, Istanbul\, Turkey
CATEGORIES:Conferences
ATTACH;FMTTYPE=image/jpeg:https://www.eventsforgamers.com/wp-content/uploads/2025/11/Banner-Mobidictum-Conference-2026.jpg
END:VEVENT
END:VCALENDAR